BEGIN:VCALENDAR
VERSION:2.0
PRODID:-//ALIA - ECPv6.15.20//NONSGML v1.0//EN
CALSCALE:GREGORIAN
METHOD:PUBLISH
X-WR-CALNAME:ALIA
X-ORIGINAL-URL:https://aliainvestinalicante.com
X-WR-CALDESC:Eventos para ALIA
REFRESH-INTERVAL;VALUE=DURATION:PT1H
X-Robots-Tag:noindex
X-PUBLISHED-TTL:PT1H
BEGIN:VTIMEZONE
TZID:Europe/Madrid
BEGIN:DAYLIGHT
TZOFFSETFROM:+0100
TZOFFSETTO:+0200
TZNAME:CEST
DTSTART:20240331T010000
END:DAYLIGHT
BEGIN:STANDARD
TZOFFSETFROM:+0200
TZOFFSETTO:+0100
TZNAME:CET
DTSTART:20241027T010000
END:STANDARD
BEGIN:DAYLIGHT
TZOFFSETFROM:+0100
TZOFFSETTO:+0200
TZNAME:CEST
DTSTART:20250330T010000
END:DAYLIGHT
BEGIN:STANDARD
TZOFFSETFROM:+0200
TZOFFSETTO:+0100
TZNAME:CET
DTSTART:20251026T010000
END:STANDARD
BEGIN:DAYLIGHT
TZOFFSETFROM:+0100
TZOFFSETTO:+0200
TZNAME:CEST
DTSTART:20260329T010000
END:DAYLIGHT
BEGIN:STANDARD
TZOFFSETFROM:+0200
TZOFFSETTO:+0100
TZNAME:CET
DTSTART:20261025T010000
END:STANDARD
END:VTIMEZONE
BEGIN:VEVENT
DTSTART;TZID=Europe/Madrid:20250603T100000
DTEND;TZID=Europe/Madrid:20250603T190000
DTSTAMP:20260423T104527
CREATED:20250402T193808Z
LAST-MODIFIED:20250521T163655Z
UID:6383-1748944800-1748977200@aliainvestinalicante.com
SUMMARY:TECH DAY ALICANTE - ELCHE
DESCRIPTION:¡Llega el primer día de la tecnología de la provincia de Alicante! \n\nFecha: 3 de junio\nUbicación: Alicante y Elche\n\nTech Day reunirá a empresas\, emprendedores y profesionales para compartir conocimientos\, generar sinergias y poner en valor el gran potencial tecnológico de nuestra provincia. \nAlicante y Elche se unen para ser el epicentro de la innovación y la disrupción tecnológica. Un evento sin precedentes que será clave para el desarrollo de la tecnología en la región. \n¡Las entradas estarán disponibles próximamente! No te pierdas la oportunidad de ser parte de este gran evento. \nhttps://www.tech.asociacionbigdata.es/techday
URL:https://aliainvestinalicante.com/evento/tech-day-alicante-elche/
LOCATION:Palacio de Congresos de Elche\, Carrer del Filet de Fora 1\, Elche\, Alicante\, 03203\, Spain
CATEGORIES:Destacados
ATTACH;FMTTYPE=image/jpeg:https://aliainvestinalicante.com/wp-content/uploads/1742899749532.jpg
ORGANIZER;CN="ALIA Invest in Alicante":MAILTO:agency@aliainvestinalicante.com
END:VEVENT
END:VCALENDAR