BEGIN:VCALENDAR
VERSION:2.0
PRODID:-//ALIA - ECPv6.15.20//NONSGML v1.0//EN
CALSCALE:GREGORIAN
METHOD:PUBLISH
X-WR-CALNAME:ALIA
X-ORIGINAL-URL:https://aliainvestinalicante.com/en/
X-WR-CALDESC:Events for ALIA
REFRESH-INTERVAL;VALUE=DURATION:PT1H
X-Robots-Tag:noindex
X-PUBLISHED-TTL:PT1H
BEGIN:VTIMEZONE
TZID:Europe/Madrid
BEGIN:DAYLIGHT
TZOFFSETFROM:+0100
TZOFFSETTO:+0200
TZNAME:CEST
DTSTART:20240331T010000
END:DAYLIGHT
BEGIN:STANDARD
TZOFFSETFROM:+0200
TZOFFSETTO:+0100
TZNAME:CET
DTSTART:20241027T010000
END:STANDARD
BEGIN:DAYLIGHT
TZOFFSETFROM:+0100
TZOFFSETTO:+0200
TZNAME:CEST
DTSTART:20250330T010000
END:DAYLIGHT
BEGIN:STANDARD
TZOFFSETFROM:+0200
TZOFFSETTO:+0100
TZNAME:CET
DTSTART:20251026T010000
END:STANDARD
BEGIN:DAYLIGHT
TZOFFSETFROM:+0100
TZOFFSETTO:+0200
TZNAME:CEST
DTSTART:20260329T010000
END:DAYLIGHT
BEGIN:STANDARD
TZOFFSETFROM:+0200
TZOFFSETTO:+0100
TZNAME:CET
DTSTART:20261025T010000
END:STANDARD
END:VTIMEZONE
BEGIN:VEVENT
DTSTART;TZID=Europe/Madrid:20250606T100000
DTEND;TZID=Europe/Madrid:20250606T140000
DTSTAMP:20260423T133805
CREATED:20250619T114321Z
LAST-MODIFIED:20250619T114321Z
UID:7936-1749204000-1749218400@aliainvestinalicante.com
SUMMARY:Photographs of the 1st Spanish-German Business Forum
DESCRIPTION:EVENT PHOTOGRAPHS: https://flic.kr/s/aHBqjCivYx
URL:https://aliainvestinalicante.com/en/evento/photographs-of-the-1st-spanish-german-business-forum/
CATEGORIES:Featured
ATTACH;FMTTYPE=image/jpeg:https://aliainvestinalicante.com/wp-content/uploads/popup-I-forum-alemania.jpg
END:VEVENT
END:VCALENDAR